BEGIN:VCALENDAR
VERSION:2.0
PRODID:-//Library Market//iCal Export//EN
BEGIN:VEVENT
SUMMARY:Basketball
UID:19176
DTSTAMP:20260421T110900Z
DTSTART:20260419T180000Z
DTEND:20260419T200000Z
LOCATION:28 South Street, Vernon, IN 47282, United States
ROOM: VRC Gym only
DESCRIPTION:To play basketball.
URL:https://jenningscounty.librarycalendar.com/event/basketball-19176
END:VEVENT
END:VCALENDAR
