BEGIN:VCALENDAR
VERSION:2.0
PRODID:-//Library Market//iCal Export//EN
BEGIN:VEVENT
SUMMARY:Gym maintenance
UID:18834
DTSTAMP:20260421T110900Z
DTSTART:20260515T190000Z
DTEND:20260516T010000Z
LOCATION:28 South Street, Vernon, IN 47282, United States
ROOM: VRC Gym and Stage
DESCRIPTION:Maintenance 
URL:https://jenningscounty.librarycalendar.com/event/gym-maintenance-18834
END:VEVENT
END:VCALENDAR
